BEGIN:VCALENDAR
VERSION:2.0
PRODID:-//Melingriffith - ECPv6.15.14//NONSGML v1.0//EN
CALSCALE:GREGORIAN
METHOD:PUBLISH
X-ORIGINAL-URL:https://melingriffith.co.uk/en/
X-WR-CALDESC:Events for Melingriffith
REFRESH-INTERVAL;VALUE=DURATION:PT1H
X-Robots-Tag:noindex
X-PUBLISHED-TTL:PT1H
BEGIN:VTIMEZONE
TZID:Europe/London
BEGIN:DAYLIGHT
TZOFFSETFROM:+0000
TZOFFSETTO:+0100
TZNAME:BST
DTSTART:20240331T010000
END:DAYLIGHT
BEGIN:STANDARD
TZOFFSETFROM:+0100
TZOFFSETTO:+0000
TZNAME:GMT
DTSTART:20241027T010000
END:STANDARD
BEGIN:DAYLIGHT
TZOFFSETFROM:+0000
TZOFFSETTO:+0100
TZNAME:BST
DTSTART:20250330T010000
END:DAYLIGHT
BEGIN:STANDARD
TZOFFSETFROM:+0100
TZOFFSETTO:+0000
TZNAME:GMT
DTSTART:20251026T010000
END:STANDARD
BEGIN:DAYLIGHT
TZOFFSETFROM:+0000
TZOFFSETTO:+0100
TZNAME:BST
DTSTART:20260329T010000
END:DAYLIGHT
BEGIN:STANDARD
TZOFFSETFROM:+0100
TZOFFSETTO:+0000
TZNAME:GMT
DTSTART:20261025T010000
END:STANDARD
END:VTIMEZONE
BEGIN:VEVENT
DTSTART;TZID=Europe/London:20251004T190000
DTEND;TZID=Europe/London:20251004T210000
DTSTAMP:20260424T231610
CREATED:20251001T131014Z
LAST-MODIFIED:20251001T133240Z
UID:1304-1759604400-1759611600@melingriffith.co.uk
SUMMARY:Community Brass - Autumn Concert
DESCRIPTION:Community Brass – Autumn Concert
URL:https://melingriffith.co.uk/en/event/autumn-concert-community-brass/
LOCATION:The Bishop of Llandaff Church in Wales High School\, Rookwood Cl\, Cardiff\, CF5 2NR\, United Kingdom
CATEGORIES:Community Brass,Concert
ATTACH;FMTTYPE=image/jpeg:https://melingriffith.co.uk/wp-content/uploads/2025/10/Concert-4-October-2025-pdf-scaled.jpg
END:VEVENT
END:VCALENDAR