BEGIN:VCALENDAR
VERSION:2.0
PRODID:-//Melingriffith - ECPv6.15.14//NONSGML v1.0//EN
CALSCALE:GREGORIAN
METHOD:PUBLISH
X-WR-CALNAME:Melingriffith
X-ORIGINAL-URL:https://melingriffith.co.uk/cy/
X-WR-CALDESC:Events for Melingriffith
REFRESH-INTERVAL;VALUE=DURATION:PT1H
X-Robots-Tag:noindex
X-PUBLISHED-TTL:PT1H
BEGIN:VTIMEZONE
TZID:Europe/London
BEGIN:DAYLIGHT
TZOFFSETFROM:+0000
TZOFFSETTO:+0100
TZNAME:BST
DTSTART:20240331T010000
END:DAYLIGHT
BEGIN:STANDARD
TZOFFSETFROM:+0100
TZOFFSETTO:+0000
TZNAME:GMT
DTSTART:20241027T010000
END:STANDARD
BEGIN:DAYLIGHT
TZOFFSETFROM:+0000
TZOFFSETTO:+0100
TZNAME:BST
DTSTART:20250330T010000
END:DAYLIGHT
BEGIN:STANDARD
TZOFFSETFROM:+0100
TZOFFSETTO:+0000
TZNAME:GMT
DTSTART:20251026T010000
END:STANDARD
BEGIN:DAYLIGHT
TZOFFSETFROM:+0000
TZOFFSETTO:+0100
TZNAME:BST
DTSTART:20260329T010000
END:DAYLIGHT
BEGIN:STANDARD
TZOFFSETFROM:+0100
TZOFFSETTO:+0000
TZNAME:GMT
DTSTART:20261025T010000
END:STANDARD
END:VTIMEZONE
BEGIN:VEVENT
DTSTART;VALUE=DATE:20251101
DTEND;VALUE=DATE:20251102
DTSTAMP:20260424T201856
CREATED:20251001T134911Z
LAST-MODIFIED:20251001T135624Z
UID:1331-1761955200-1762041599@melingriffith.co.uk
SUMMARY:M2 - Wychavon Festival of Brass
DESCRIPTION:M2 – Wychavon Festival of Brass
URL:https://melingriffith.co.uk/cy/event/m2-wychavon-festival-of-brass/
LOCATION:De Montfort School\, Four Pools Rd\, Evesham\, WR11 1DQ
CATEGORIES:Contest,M2
ATTACH;FMTTYPE=image/jpeg:https://melingriffith.co.uk/wp-content/uploads/2025/10/Primary-red-grey.jpg
ORGANIZER;CN="Wychavon Festival of Brass":MAILTO:contest@festivalofbrass.co.uk
END:VEVENT
BEGIN:VEVENT
DTSTART;VALUE=DATE:20251101
DTEND;VALUE=DATE:20251102
DTSTAMP:20260424T201856
CREATED:20251001T132817Z
LAST-MODIFIED:20251001T135736Z
UID:1320-1761955200-1762041599@melingriffith.co.uk
SUMMARY:M1 - SWBBA Annual Championships
DESCRIPTION:M1 – SWBBA Annual Championships
URL:https://melingriffith.co.uk/cy/event/m1-swbba-annual-championships/
LOCATION:The Riviera International Conference Centre\, Chestnut Ave\, Torquay\, TQ2 5LZ
CATEGORIES:Contest,M1
ATTACH;FMTTYPE=image/jpeg:https://melingriffith.co.uk/wp-content/uploads/2025/10/Primary-red-grey.jpg
ORGANIZER;CN="The South West Brass Band Association":MAILTO:secretary@swbba.com
END:VEVENT
END:VCALENDAR